BEGIN:VCALENDAR
METHOD:PUBLISH
PRODID:-//github.com/rianjs/ical.net//NONSGML ical.net 4.0//EN
URL:https://demo.ukmsl.net/ents/event/ics/13744/
VERSION:2.0
X-PUBLISHED-TTL:PT1H
X-WR-CALNAME:Bunny Day Care (13744)
BEGIN:VTIMEZONE
TZID:GMT Standard Time
X-LIC-LOCATION:Europe/London
BEGIN:STANDARD
DTSTART:20241027T020000
RRULE:FREQ=YEARLY;BYDAY=4SU;BYMONTH=10
TZNAME:GMT
TZOFFSETFROM:+0100
TZOFFSETTO:+0000
END:STANDARD
BEGIN:DAYLIGHT
DTSTART:20250330T010000
RRULE:FREQ=YEARLY;BYDAY=-1SU;BYMONTH=3
TZNAME:BST
TZOFFSETFROM:+0000
TZOFFSETTO:+0100
END:DAYLIGHT
END:VTIMEZONE
BEGIN:VEVENT
CATEGORIES:easter special
CATEGORIES:Offline
CREATED:20260420T144108
DESCRIPTION:https://demo.ukmsl.net/events/7251/13744/\n
DTEND:20260423T170000
DTSTAMP:20260421T204708Z
DTSTART:20260423T100000
LAST-MODIFIED:20260420T144108
LOCATION:
SEQUENCE:0
SUMMARY:Bunny Day Care
UID:3e10f1e5-a255-45bd-9927-5e1dc4801b34
URL:https://demo.ukmsl.net/events/7251/13744/
X-ALT-DESC;FMTTYPE=text/html:<html><head><base href="https://demo.ukmsl.ne
 t"></head><body><p>https://demo.ukmsl.net/events/7251/13744/</p>\n</body>
 </html>
END:VEVENT
END:VCALENDAR
